BEGIN:VCALENDAR
VERSION:2.0
PRODID:-//OLDGary Chamber of Commerce - ECPv6.15.20//NONSGML v1.0//EN
CALSCALE:GREGORIAN
METHOD:PUBLISH
X-ORIGINAL-URL:http://datamine.mobi/garychamber
X-WR-CALDESC:Events for OLDGary Chamber of Commerce
REFRESH-INTERVAL;VALUE=DURATION:PT1H
X-Robots-Tag:noindex
X-PUBLISHED-TTL:PT1H
BEGIN:VTIMEZONE
TZID:UTC
BEGIN:STANDARD
TZOFFSETFROM:+0000
TZOFFSETTO:+0000
TZNAME:UTC
DTSTART:20180101T000000
END:STANDARD
END:VTIMEZONE
BEGIN:VEVENT
DTSTART;TZID=UTC:20200810T120000
DTEND;TZID=UTC:20200810T120000
DTSTAMP:20260423T223658
CREATED:20200131T205454Z
LAST-MODIFIED:20240405T191431Z
UID:3024-1597060800-1597060800@datamine.mobi
SUMMARY:Monthly luncheons
DESCRIPTION:
URL:http://datamine.mobi/garychamber/calendar/monthly-luncheons-7/
END:VEVENT
BEGIN:VEVENT
DTSTART;TZID=UTC:20200715T090000
DTEND;TZID=UTC:20200715T090000
DTSTAMP:20260423T223658
CREATED:20200131T211714Z
LAST-MODIFIED:20240405T191740Z
UID:3042-1594803600-1594803600@datamine.mobi
SUMMARY:Economic/Business Development Committee Meeting
DESCRIPTION:
URL:http://datamine.mobi/garychamber/calendar/economic-business-development-committee-meeting-15/
END:VEVENT
BEGIN:VEVENT
DTSTART;TZID=UTC:20200713T120000
DTEND;TZID=UTC:20200713T120000
DTSTAMP:20260423T223658
CREATED:20200131T205250Z
LAST-MODIFIED:20240405T191431Z
UID:3022-1594641600-1594641600@datamine.mobi
SUMMARY:Monthly luncheons
DESCRIPTION:
URL:http://datamine.mobi/garychamber/calendar/monthly-luncheons-6/
END:VEVENT
BEGIN:VEVENT
DTSTART;TZID=UTC:20200617T090000
DTEND;TZID=UTC:20200617T090000
DTSTAMP:20260423T223658
CREATED:20200131T211358Z
LAST-MODIFIED:20240405T191740Z
UID:3040-1592384400-1592384400@datamine.mobi
SUMMARY:Economic/Business Development Committee Meeting
DESCRIPTION:
URL:http://datamine.mobi/garychamber/calendar/economic-business-development-committee-meeting-14/
END:VEVENT
BEGIN:VEVENT
DTSTART;TZID=UTC:20200608T120000
DTEND;TZID=UTC:20200608T120000
DTSTAMP:20260423T223658
CREATED:20200131T205036Z
LAST-MODIFIED:20240405T191431Z
UID:3020-1591617600-1591617600@datamine.mobi
SUMMARY:Monthly luncheons
DESCRIPTION:
URL:http://datamine.mobi/garychamber/calendar/monthly-luncheons-5/
END:VEVENT
BEGIN:VEVENT
DTSTART;TZID=UTC:20200520T090000
DTEND;TZID=UTC:20200520T090000
DTSTAMP:20260423T223658
CREATED:20200131T211255Z
LAST-MODIFIED:20240405T191740Z
UID:3038-1589965200-1589965200@datamine.mobi
SUMMARY:Economic/Business Development Committee Meeting
DESCRIPTION:
URL:http://datamine.mobi/garychamber/calendar/economic-business-development-committee-meeting-13/
END:VEVENT
BEGIN:VEVENT
DTSTART;TZID=UTC:20200511T120000
DTEND;TZID=UTC:20200511T120000
DTSTAMP:20260423T223658
CREATED:20200131T204935Z
LAST-MODIFIED:20240405T191431Z
UID:3018-1589198400-1589198400@datamine.mobi
SUMMARY:Monthly luncheons
DESCRIPTION:
URL:http://datamine.mobi/garychamber/calendar/monthly-luncheons-4/
END:VEVENT
BEGIN:VEVENT
DTSTART;TZID=UTC:20200415T090000
DTEND;TZID=UTC:20200415T090000
DTSTAMP:20260423T223658
CREATED:20200131T211142Z
LAST-MODIFIED:20240405T191740Z
UID:3036-1586941200-1586941200@datamine.mobi
SUMMARY:Economic/Business Development Committee Meeting
DESCRIPTION:
URL:http://datamine.mobi/garychamber/calendar/economic-business-development-committee-meeting-12/
END:VEVENT
BEGIN:VEVENT
DTSTART;VALUE=DATE:20200409
DTEND;VALUE=DATE:20200410
DTSTAMP:20260423T223658
CREATED:20200131T214434Z
LAST-MODIFIED:20200131T214434Z
UID:3054-1586390400-1586476799@datamine.mobi
SUMMARY:World Civility Day
DESCRIPTION:
URL:http://datamine.mobi/garychamber/calendar/world-civility-day-2/
END:VEVENT
BEGIN:VEVENT
DTSTART;TZID=UTC:20200318T090000
DTEND;TZID=UTC:20200318T090000
DTSTAMP:20260423T223658
CREATED:20200131T211046Z
LAST-MODIFIED:20240405T191740Z
UID:3034-1584522000-1584522000@datamine.mobi
SUMMARY:Economic/Business Development Committee Meeting
DESCRIPTION:
URL:http://datamine.mobi/garychamber/calendar/economic-business-development-committee-meeting-11/
END:VEVENT
BEGIN:VEVENT
DTSTART;TZID=UTC:20200309T120000
DTEND;TZID=UTC:20200309T120000
DTSTAMP:20260423T223658
CREATED:20200131T204736Z
LAST-MODIFIED:20240405T191431Z
UID:3016-1583755200-1583755200@datamine.mobi
SUMMARY:Monthly luncheons
DESCRIPTION:
URL:http://datamine.mobi/garychamber/calendar/monthly-luncheons-3/
END:VEVENT
BEGIN:VEVENT
DTSTART;TZID=UTC:20200220T180000
DTEND;TZID=UTC:20200220T193000
DTSTAMP:20260423T223658
CREATED:20200212T184853Z
LAST-MODIFIED:20200212T185153Z
UID:3113-1582221600-1582227000@datamine.mobi
SUMMARY:Cocoa with Cline
DESCRIPTION:[vc_row row_type=”row” use_row_as_full_screen_section=”no” type=”full_width” oblique_section=”no” text_align=”left” Overflow=”” triangle_shape=”no” css_animation=””][vc_column][vc_column_text]Learn About a Landmark in the Making – Right inYour Backyard \n219 Riley Road\, East Chicago\, IN 46312 219.276-8901 • clineave.com • info@clineave.com\nYou’re invited to a special program that gives you a closer look at the making of the new Cline Avenue Bridge!\nDuring this fun and interactive session for all ages\, we’ll cover: \n• How it will impact the community\n• Engineering concepts behind its design\n• Answers to your questions …All while enjoying complementary hot chocolate and cookies.\nBring your curiosity and get cozy during this free program you won’t want to miss![/vc_column_text][/vc_column][/vc_row]
URL:http://datamine.mobi/garychamber/calendar/cocoa-with-cline/
LOCATION:East Chicago Public Library\, Main Branch\, 2401 East Columbus Drive\, East Chicago\, Indiana\, 46312
END:VEVENT
BEGIN:VEVENT
DTSTART;TZID=UTC:20200219T090000
DTEND;TZID=UTC:20200219T090000
DTSTAMP:20260423T223658
CREATED:20200131T210744Z
LAST-MODIFIED:20240405T191740Z
UID:3032-1582102800-1582102800@datamine.mobi
SUMMARY:Economic/Business Development Committee Meeting
DESCRIPTION:
URL:http://datamine.mobi/garychamber/calendar/economic-business-development-committee-meeting-10/
END:VEVENT
BEGIN:VEVENT
DTSTART;TZID=UTC:20200210T120000
DTEND;TZID=UTC:20200210T120000
DTSTAMP:20260423T223658
CREATED:20200131T204452Z
LAST-MODIFIED:20240405T191431Z
UID:3014-1581336000-1581336000@datamine.mobi
SUMMARY:Monthly luncheons
DESCRIPTION:
URL:http://datamine.mobi/garychamber/calendar/monthly-luncheons-2/
END:VEVENT
BEGIN:VEVENT
DTSTART;TZID=UTC:20200115T090000
DTEND;TZID=UTC:20200115T090000
DTSTAMP:20260423T223658
CREATED:20200131T210217Z
LAST-MODIFIED:20240405T191740Z
UID:3030-1579078800-1579078800@datamine.mobi
SUMMARY:Economic/Business Development Committee Meeting
DESCRIPTION:
URL:http://datamine.mobi/garychamber/calendar/economic-business-development-committee-meeting-9/
END:VEVENT
BEGIN:VEVENT
DTSTART;TZID=UTC:20200108T120000
DTEND;TZID=UTC:20200108T120000
DTSTAMP:20260423T223658
CREATED:20200131T204318Z
LAST-MODIFIED:20240405T191431Z
UID:3012-1578484800-1578484800@datamine.mobi
SUMMARY:Monthly luncheons
DESCRIPTION:
URL:http://datamine.mobi/garychamber/calendar/monthly-luncheons/
END:VEVENT
BEGIN:VEVENT
DTSTART;TZID=UTC:20191218T080000
DTEND;TZID=UTC:20191218T170000
DTSTAMP:20260423T223658
CREATED:20190624T211429Z
LAST-MODIFIED:20240405T191740Z
UID:2162-1576656000-1576688400@datamine.mobi
SUMMARY:ECONOMIC/BUSINESS DEVELOPMENT COMMITTEE MEETING
DESCRIPTION:
URL:http://datamine.mobi/garychamber/calendar/economic-business-development-committee-meeting-5/
END:VEVENT
BEGIN:VEVENT
DTSTART;TZID=UTC:20191120T080000
DTEND;TZID=UTC:20191120T170000
DTSTAMP:20260423T223658
CREATED:20190624T211515Z
LAST-MODIFIED:20240405T191740Z
UID:2165-1574236800-1574269200@datamine.mobi
SUMMARY:ECONOMIC/BUSINESS DEVELOPMENT COMMITTEE MEETING
DESCRIPTION:
URL:http://datamine.mobi/garychamber/calendar/economic-business-development-committee-meeting-6/
END:VEVENT
BEGIN:VEVENT
DTSTART;TZID=UTC:20191016T080000
DTEND;TZID=UTC:20191016T170000
DTSTAMP:20260423T223658
CREATED:20190624T211610Z
LAST-MODIFIED:20240405T191740Z
UID:2168-1571212800-1571245200@datamine.mobi
SUMMARY:ECONOMIC/BUSINESS DEVELOPMENT COMMITTEE MEETING
DESCRIPTION:
URL:http://datamine.mobi/garychamber/calendar/economic-business-development-committee-meeting-7/
END:VEVENT
BEGIN:VEVENT
DTSTART;TZID=UTC:20190918T080000
DTEND;TZID=UTC:20190918T170000
DTSTAMP:20260423T223658
CREATED:20190624T211702Z
LAST-MODIFIED:20240405T191740Z
UID:2170-1568793600-1568826000@datamine.mobi
SUMMARY:ECONOMIC/BUSINESS DEVELOPMENT COMMITTEE MEETING
DESCRIPTION:
URL:http://datamine.mobi/garychamber/calendar/economic-business-development-committee-meeting-8/
END:VEVENT
BEGIN:VEVENT
DTSTART;TZID=UTC:20190708T120000
DTEND;TZID=UTC:20190708T143000
DTSTAMP:20260423T223658
CREATED:20190624T211026Z
LAST-MODIFIED:20240405T191431Z
UID:2158-1562587200-1562596200@datamine.mobi
SUMMARY:GENERAL MEMBERSHIP MEETINGS/LUNCHEONS
DESCRIPTION:[vc_row row_type=”row” use_row_as_full_screen_section=”no” type=”full_width” oblique_section=”no” text_align=”left” Overflow=”” triangle_shape=”no” css_animation=””][vc_column][vc_column_text]Gary….The Gary Chamber of Commerce will hold it’s monthly General Membership Luncheon on Monday\, July 8\, 2019\, 12:00 Noon at Majestic Star Casino Event Center\, One Buffington Harbor Drive\, Gary. The scheduled guest speaker will be Mr. Ed Feigenbaum\, Publisher of Indiana Gaming Insight. \nMr. Feigenbaum will talk on “The Future of Gaming in Indiana After the 2019 Bi-State Legislative Changes” as well as casino gaming in Gary\,\nNorthwest Indiana\, and the rest of the state and the possible impact on Northwest Indiana’s economy. \nA nationally recognized authority on state election\, ethics\, lobbying\, and campaign finance law. Mr. Feigenbaum is also publisher of Indiana Legislative Insight and Indiana Education Insight. The cost of the luncheon is $20 per person reserved reservations\, $22 at the door. Call the Chamber office (219) 885-7407 to reserve your seats today. \n• SPONSORSHIP OPPORTUNITIES AVAILABLE • \nBring your business cards\, networking starts at 11:30 a.m.\nAvoid the lines at the door. Make payments in advance.\nWe now accept American Express\, Master Card and Visa Credit and Debit card.[/vc_column_text][/vc_column][/vc_row]
URL:http://datamine.mobi/garychamber/calendar/general-membership-meetings-luncheons/
END:VEVENT
BEGIN:VEVENT
DTSTART;TZID=UTC:20190703T080000
DTEND;TZID=UTC:20190703T170000
DTSTAMP:20260423T223658
CREATED:20190624T211259Z
LAST-MODIFIED:20240405T191740Z
UID:2160-1562140800-1562173200@datamine.mobi
SUMMARY:PROGRAM/SPECIAL EVENTS COMMITTEE MEETING
DESCRIPTION:
URL:http://datamine.mobi/garychamber/calendar/program-special-events-committee-meeting/
END:VEVENT
BEGIN:VEVENT
DTSTART;TZID=UTC:20190620T173000
DTEND;TZID=UTC:20190620T193000
DTSTAMP:20260423T223658
CREATED:20190604T183724Z
LAST-MODIFIED:20190604T183724Z
UID:2062-1561051800-1561059000@datamine.mobi
SUMMARY:Business Resource Fair  Meet & Greet
DESCRIPTION:
URL:http://datamine.mobi/garychamber/calendar/business-resource-fair-meet-greet/
LOCATION:IN\, United States
ORGANIZER;CN="Gary Chamber of Commerce":MAILTO:jbowden@garychamber.com
END:VEVENT
BEGIN:VEVENT
DTSTART;TZID=UTC:20190503T110000
DTEND;TZID=UTC:20190503T120000
DTSTAMP:20260423T223658
CREATED:20190416T204046Z
LAST-MODIFIED:20240405T191531Z
UID:1887-1556881200-1556884800@datamine.mobi
SUMMARY:GAMING EXECUTIVE BUSINESS TO BUSINESS EXPO SPOTLIGHT GARY CHAMBER ANNUAL MEETING
DESCRIPTION:
URL:http://datamine.mobi/garychamber/calendar/gaming-executive-business-to-business-expo-spotlight-gary-chamber-annual-meeting/
LOCATION:Majestic Star Casino Hotel\, One Buffington Harbor Drive\, Gary\, IN\, United States
END:VEVENT
BEGIN:VEVENT
DTSTART;TZID=UTC:20190425T110000
DTEND;TZID=UTC:20190425T120000
DTSTAMP:20260423T223658
CREATED:20181207T205239Z
LAST-MODIFIED:20240405T192212Z
UID:1630-1556190000-1556193600@datamine.mobi
SUMMARY:EDUCATION/WORKFORCE COMMITTEE MEETING
DESCRIPTION:
URL:http://datamine.mobi/garychamber/calendar/education-workforce-committee-meeting-4/
END:VEVENT
BEGIN:VEVENT
DTSTART;TZID=UTC:20190417T090000
DTEND;TZID=UTC:20190417T100000
DTSTAMP:20260423T223658
CREATED:20181207T205024Z
LAST-MODIFIED:20240405T191740Z
UID:1628-1555491600-1555495200@datamine.mobi
SUMMARY:ECONOMIC/BUSINESS DEVELOPMENT COMMITTEE MEETING
DESCRIPTION:
URL:http://datamine.mobi/garychamber/calendar/economic-business-development-committee-meeting-4/
END:VEVENT
BEGIN:VEVENT
DTSTART;TZID=UTC:20190411T080000
DTEND;TZID=UTC:20190411T170000
DTSTAMP:20260423T223658
CREATED:20181211T180741Z
LAST-MODIFIED:20240405T191531Z
UID:1636-1554969600-1555002000@datamine.mobi
SUMMARY:WORLD CIVILITY DAY
DESCRIPTION:[vc_row row_type=”row” use_row_as_full_screen_section=”no” type=”full_width” oblique_section=”no” text_align=”left” Overflow=”” triangle_shape=”no” css_animation=”” overflow=””][vc_column][vc_column_text]APRIL 11\, 2019 at the Indiana Welcome Center in Hammond (daytime) and Avalon Manor in Merrillville (evening awards dinner). \nThe 4rd annual World Civility Day is April 11\, 2019. World Civility Day is an initiative to encourage individuals to treat others with dignity and respect in all their interactions. Young people from various school districts in Northwest Indiana will be participating. \nIndividuals and groups from 28 states and countries will also be in attendance. \nWe are appealing to our business community\, elected and those aspiring to be elected leaders\, our law enforcement community and anyone bearing the responsibility of being the example to the citizens you have pledged to serve\, to support and attend an event such as World Civility Day that has so much importance in everyone’s life. It is not duplicated anywhere else in the country. It is taking place right here in Northwest Indiana. We need you and we need your support. Let’s show the nation that Northwest Indiana is the Civility Capitol of the world. \nContact the Chamber office (219) 885-7407 for additional information.[/vc_column_text][/vc_column][/vc_row]
URL:http://datamine.mobi/garychamber/calendar/world-civility-day/
END:VEVENT
BEGIN:VEVENT
DTSTART;TZID=UTC:20190403T120000
DTEND;TZID=UTC:20190403T130000
DTSTAMP:20260423T223658
CREATED:20181207T204733Z
LAST-MODIFIED:20240405T192023Z
UID:1626-1554292800-1554296400@datamine.mobi
SUMMARY:PROGRAM/SPECIAL EVENTS COMMITTEE MEETING
DESCRIPTION:
URL:http://datamine.mobi/garychamber/calendar/program-special-events-committee-meeting-4/
END:VEVENT
BEGIN:VEVENT
DTSTART;TZID=UTC:20190328T110000
DTEND;TZID=UTC:20190328T120000
DTSTAMP:20260423T223658
CREATED:20181207T204425Z
LAST-MODIFIED:20240405T192159Z
UID:1624-1553770800-1553774400@datamine.mobi
SUMMARY:EDUCATION/WORKFORCE COMMITTEE MEETING
DESCRIPTION:
URL:http://datamine.mobi/garychamber/calendar/education-workforce-committee-meeting-3/
END:VEVENT
BEGIN:VEVENT
DTSTART;VALUE=DATE:20190326
DTEND;VALUE=DATE:20190327
DTSTAMP:20260423T223658
CREATED:20181207T203733Z
LAST-MODIFIED:20240405T192122Z
UID:1622-1553558400-1553644799@datamine.mobi
SUMMARY:PUBLIC POLICY COMMITTEE MEETING
DESCRIPTION:
URL:http://datamine.mobi/garychamber/calendar/public-policy-committee-meeting-2/
END:VEVENT
END:VCALENDAR